BEGIN:VCALENDAR
VERSION:2.0
PRODID:-//Squarespace Inc/Squarespace 6//v6//EN
BEGIN:VEVENT
UID:5c53e959eb393164fdd9fa2b@squarespace.com
DTSTAMP:20190201T064445Z
DTSTART:20190210T003000Z
DTEND:20190210T033000Z
SUMMARY:LOUNGEPHONICS
END:VEVENT
END:VCALENDAR
