BEGIN:VCALENDAR
VERSION:2.0
PRODID:-//Squarespace Inc/Squarespace 6//v6//EN
BEGIN:VEVENT
UID:5c4a42bb2b6a289ede522b53@squarespace.com
DTSTAMP:20190124T225823Z
DTSTART:20190203T003000Z
DTEND:20190203T033000Z
SUMMARY:THE FREEEKZ
END:VEVENT
END:VCALENDAR
