BEGIN:VCALENDAR
VERSION:2.0
PRODID:-//Squarespace Inc/Squarespace 6//v6//EN
BEGIN:VEVENT
UID:5c52b155758d466a263a2725@squarespace.com
DTSTAMP:20190131T082809Z
DTSTART:20190217T220000Z
DTEND:20190218T010000Z
SUMMARY:THE BELL
END:VEVENT
END:VCALENDAR
