BEGIN:VCALENDAR
VERSION:2.0
PRODID:-//Squarespace Inc/Squarespace 6//v6//EN
BEGIN:VEVENT
UID:5c52af420e2e72d753106d97@squarespace.com
DTSTAMP:20190131T082141Z
DTSTART:20190210T213000Z
DTEND:20190211T003000Z
SUMMARY:BLACK WATER
END:VEVENT
END:VCALENDAR
