BEGIN:VCALENDAR
VERSION:2.0
PRODID:-//Squarespace Inc/Squarespace 6//v6//EN
BEGIN:VEVENT
UID:5c3059c24fa51ae3f528d00b@squarespace.com
DTSTAMP:20190107T002213Z
DTSTART:20190203T213000Z
DTEND:20190204T013000Z
SUMMARY:TRADITIONAL IRISH SESSION
END:VEVENT
END:VCALENDAR
