BEGIN:VCALENDAR
VERSION:2.0
PRODID:-//Squarespace Inc/Squarespace 6//v6//EN
BEGIN:VEVENT
UID:5c305ac070a6adec3ec808b6@squarespace.com
DTSTAMP:20190105T072124Z
DTSTART:20190106T003000Z
DTEND:20190106T033000Z
SUMMARY:THE FREEEKZ
END:VEVENT
END:VCALENDAR
