BEGIN:VCALENDAR
VERSION:2.0
PRODID:-//Squarespace Inc/Squarespace 6//v6//EN
BEGIN:VEVENT
UID:5c3197dbaa4a99548f7e9281@squarespace.com
DTSTAMP:20190106T055501Z
DTSTART:20190127T220000Z
DTEND:20190128T010000Z
SUMMARY:THE BELL
END:VEVENT
END:VCALENDAR
