BEGIN:VCALENDAR
VERSION:2.0
PRODID:-//Squarespace Inc/Squarespace 6//v6//EN
BEGIN:VEVENT
UID:5c401b7f70a6adde649db62b@squarespace.com
DTSTAMP:20190117T060916Z
DTSTART:20190126T230000Z
DTEND:20190127T020000Z
SUMMARY:AUSTRALIA DAY\, LIVE MUSIC FROM JAMIE HAFFEY
END:VEVENT
END:VCALENDAR
