BEGIN:VCALENDAR
VERSION:2.0
PRODID:-//Squarespace Inc/Squarespace 6//v6//EN
BEGIN:VEVENT
UID:5c417c3088251b8e05bf8fdc@squarespace.com
DTSTAMP:20190118T071829Z
DTSTART:20190120T003000Z
DTEND:20190120T033000Z
SUMMARY:THE CONTINENTAL BLUES PARTY
END:VEVENT
END:VCALENDAR
