BEGIN:VCALENDAR
VERSION:2.0
PRODID:-//Squarespace Inc/Squarespace 6//v6//EN
BEGIN:VEVENT
UID:5c30aa35575d1f6be276229c@squarespace.com
DTSTAMP:20190105T130045Z
DTSTART:20190113T213000Z
DTEND:20190114T003000Z
SUMMARY:BLACKWATER
END:VEVENT
END:VCALENDAR
