BEGIN:VCALENDAR
VERSION:2.0
PRODID:-//Squarespace Inc/Squarespace 6//v6//EN
BEGIN:VEVENT
UID:5c30a9e44d7a9c0f3df4f6d6@squarespace.com
DTSTAMP:20190105T125922Z
DTSTART:20190113T003000Z
DTEND:20190113T033000Z
SUMMARY:LOUNGEPHONICS
END:VEVENT
END:VCALENDAR
