BEGIN:VCALENDAR
VERSION:2.0
PRODID:-//Squarespace Inc/Squarespace 6//v6//EN
BEGIN:VEVENT
UID:5b9218970ebbe8aa1b935c9c@squarespace.com
DTSTAMP:20180907T062107Z
DTSTART:20180909T203000Z
DTEND:20180909T233000Z
SUMMARY:Blackwater
END:VEVENT
END:VCALENDAR
