BEGIN:VCALENDAR
VERSION:2.0
PRODID:-//Squarespace Inc/Squarespace 6//v6//EN
BEGIN:VEVENT
UID:5b408e48562fa7b8dd972325@squarespace.com
DTSTAMP:20180707T095707Z
DTSTART:20180908T233000Z
DTEND:20180909T023000Z
SUMMARY:Stephanie Marchant Band
END:VEVENT
END:VCALENDAR
