BEGIN:VCALENDAR
VERSION:2.0
PRODID:-//Squarespace Inc/Squarespace 6//v6//EN
BEGIN:VEVENT
UID:5b921d0c4ae237e8cd69e5aa@squarespace.com
DTSTAMP:20180926T075458Z
DTSTART:20180929T233000Z
DTEND:20180930T023000Z
SUMMARY:The Junior Vice Presidents
END:VEVENT
END:VCALENDAR
