BEGIN:VCALENDAR
VERSION:2.0
PRODID:-//Squarespace Inc/Squarespace 6//v6//EN
BEGIN:VEVENT
UID:5b921b9a575d1f6f954e1ff3@squarespace.com
DTSTAMP:20180907T063414Z
DTSTART:20180923T210000Z
DTEND:20180924T000000Z
SUMMARY:Pat Brady Duo
END:VEVENT
END:VCALENDAR
