BEGIN:VCALENDAR
VERSION:2.0
PRODID:-//Squarespace Inc/Squarespace 6//v6//EN
BEGIN:VEVENT
UID:5b921aee352f53daee9e699e@squarespace.com
DTSTAMP:20180907T063131Z
DTSTART:20180922T233000Z
DTEND:20180923T023000Z
SUMMARY:Matt Morrison & the Tremolomen
END:VEVENT
END:VCALENDAR
