BEGIN:VCALENDAR
VERSION:2.0
PRODID:-//Squarespace Inc/Squarespace 6//v6//EN
BEGIN:VEVENT
UID:5b408e101ae6cfc6b0c1639d@squarespace.com
DTSTAMP:20180707T095616Z
DTSTART:20180902T210000Z
DTEND:20180903T000000Z
SUMMARY:Irish Trad Session
END:VEVENT
END:VCALENDAR
