BEGIN:VCALENDAR
VERSION:2.0
PRODID:-//Squarespace Inc/Squarespace 6//v6//EN
BEGIN:VEVENT
UID:5b921a81758d469ab9e73c1c@squarespace.com
DTSTAMP:20180907T062950Z
DTSTART:20180916T210000Z
DTEND:20180917T000000Z
SUMMARY:Mary Jane
END:VEVENT
END:VCALENDAR
