BEGIN:VCALENDAR
VERSION:2.0
PRODID:-//Squarespace Inc/Squarespace 6//v6//EN
BEGIN:VEVENT
UID:5b9218e98a922d993d817466@squarespace.com
DTSTAMP:20180907T062637Z
DTSTART:20180915T233000Z
DTEND:20180916T023000Z
SUMMARY:Loungephonics
END:VEVENT
END:VCALENDAR
