BEGIN:VCALENDAR
VERSION:2.0
PRODID:-//Squarespace Inc/Squarespace 6//v6//EN
BEGIN:VEVENT
UID:5b408dc71ae6cfc6b0c15f49@squarespace.com
DTSTAMP:20180707T095517Z
DTSTART:20180901T233000Z
DTEND:20180902T023000Z
SUMMARY:The Freeekz
END:VEVENT
END:VCALENDAR
