BEGIN:VCALENDAR
VERSION:2.0
PRODID:-//Squarespace Inc/Squarespace 6//v6//EN
BEGIN:VEVENT
UID:5b408c32562fa7b8dd97014a@squarespace.com
DTSTAMP:20180707T094816Z
DTSTART:20180805T203000Z
DTEND:20180806T003000Z
SUMMARY:Irish Trad Session
END:VEVENT
END:VCALENDAR
