BEGIN:VCALENDAR
VERSION:2.0
PRODID:-//Squarespace Inc/Squarespace 6//v6//EN
BEGIN:VEVENT
UID:5b408be5f950b79dc361cfb5@squarespace.com
DTSTAMP:20180707T094719Z
DTSTART:20180804T233000Z
DTEND:20180805T023000Z
SUMMARY:The Freeekz
END:VEVENT
END:VCALENDAR
