BEGIN:VCALENDAR
VERSION:2.0
PRODID:-//Squarespace Inc/Squarespace 6//v6//EN
BEGIN:VEVENT
UID:5b408d401ae6cfc6b0c1577a@squarespace.com
DTSTAMP:20180707T095255Z
DTSTART:20180825T233000Z
DTEND:20180826T023000Z
SUMMARY:The Junior Vice Presidents
END:VEVENT
END:VCALENDAR
