BEGIN:VCALENDAR
VERSION:2.0
PRODID:-//Squarespace Inc/Squarespace 6//v6//EN
BEGIN:VEVENT
UID:5b408cff70a6ad9828356270@squarespace.com
DTSTAMP:20180707T095151Z
DTSTART:20180812T203000Z
DTEND:20180812T233000Z
SUMMARY:Blackwater
END:VEVENT
END:VCALENDAR
