BEGIN:VCALENDAR
VERSION:2.0
PRODID:-//Squarespace Inc/Squarespace 6//v6//EN
BEGIN:VEVENT
UID:5b408c6af950b79dc361d85b@squarespace.com
DTSTAMP:20180707T094937Z
DTSTART:20180811T233000Z
DTEND:20180812T023000Z
SUMMARY:Stephanie Marchant & the Ugly Truth
END:VEVENT
END:VCALENDAR
