BEGIN:VCALENDAR
VERSION:2.0
PRODID:-//Squarespace Inc/Squarespace 6//v6//EN
BEGIN:VEVENT
UID:5ad98b1b575d1ff0b18bca2b@squarespace.com
DTSTAMP:20180707T100814Z
DTSTART:20180708T203000Z
DTEND:20180708T233000Z
SUMMARY:Blackwater
END:VEVENT
END:VCALENDAR
