BEGIN:VCALENDAR
VERSION:2.0
PRODID:-//Squarespace Inc/Squarespace 6//v6//EN
BEGIN:VEVENT
UID:5ad98abb575d1ff0b18bc146@squarespace.com
DTSTAMP:20180420T063916Z
DTSTART:20180707T233000Z
DTEND:20180708T023000Z
SUMMARY:The Freeekz
END:VEVENT
END:VCALENDAR
