BEGIN:VCALENDAR
VERSION:2.0
PRODID:-//Squarespace Inc/Squarespace 6//v6//EN
BEGIN:VEVENT
UID:5ad98b571ae6cf93cb83cdf1@squarespace.com
DTSTAMP:20180420T064113Z
DTSTART:20180729T210000Z
DTEND:20180730T000000Z
SUMMARY:The Bell
END:VEVENT
END:VCALENDAR
