BEGIN:VCALENDAR
VERSION:2.0
PRODID:-//Squarespace Inc/Squarespace 6//v6//EN
BEGIN:VEVENT
UID:5b408958352f53c51af4be05@squarespace.com
DTSTAMP:20180707T093648Z
DTSTART:20180728T233000Z
DTEND:20180729T023000Z
SUMMARY:Matt Rumble & the Tremolomen
END:VEVENT
END:VCALENDAR
