BEGIN:VCALENDAR
VERSION:2.0
PRODID:-//Squarespace Inc/Squarespace 6//v6//EN
BEGIN:VEVENT
UID:5b4087da562fa7b8dd96be43@squarespace.com
DTSTAMP:20180707T100927Z
DTSTART:20180722T203000Z
DTEND:20180722T233000Z
SUMMARY:Pat Brady Duo
END:VEVENT
END:VCALENDAR
