BEGIN:VCALENDAR
VERSION:2.0
PRODID:-//Squarespace Inc/Squarespace 6//v6//EN
BEGIN:VEVENT
UID:5b31e35503ce64c583a644c0@squarespace.com
DTSTAMP:20180707T092840Z
DTSTART:20180721T233000Z
DTEND:20180722T023000Z
SUMMARY:The Junior Vice Presidents
END:VEVENT
END:VCALENDAR
