BEGIN:VCALENDAR
VERSION:2.0
PRODID:-//Squarespace Inc/Squarespace 6//v6//EN
BEGIN:VEVENT
UID:5b31e2ee2b6a28366b46ef2c@squarespace.com
DTSTAMP:20180707T100839Z
DTSTART:20180715T210000Z
DTEND:20180716T000000Z
SUMMARY:Sunday Soul Sessions
END:VEVENT
END:VCALENDAR
