BEGIN:VCALENDAR
VERSION:2.0
PRODID:-//Squarespace Inc/Squarespace 6//v6//EN
BEGIN:VEVENT
UID:5b31e075aa4a99b81ef3d5b5@squarespace.com
DTSTAMP:20180626T064833Z
DTSTART:20180714T233000Z
DTEND:20180715T023000Z
SUMMARY:Steph Marchant
END:VEVENT
END:VCALENDAR
