BEGIN:VCALENDAR
VERSION:2.0
PRODID:-//Squarespace Inc/Squarespace 6//v6//EN
BEGIN:VEVENT
UID:5b31dc6a03ce64c583a5a7a9@squarespace.com
DTSTAMP:20180626T063946Z
DTSTART:20180701T203000Z
DTEND:20180701T233000Z
SUMMARY:Traditional Irish Session
END:VEVENT
END:VCALENDAR
