BEGIN:VCALENDAR
VERSION:2.0
PRODID:-//Squarespace Inc/Squarespace 6//v6//EN
BEGIN:VEVENT
UID:5b31db3b8a922dc668247d29@squarespace.com
DTSTAMP:20180626T062528Z
DTSTART:20180630T233000Z
DTEND:20180701T023000Z
SUMMARY:Kotahi Groove
END:VEVENT
END:VCALENDAR
