BEGIN:VCALENDAR
VERSION:2.0
PRODID:-//Squarespace Inc/Squarespace 6//v6//EN
BEGIN:VEVENT
UID:5ad98a3603ce64b58412a1b6@squarespace.com
DTSTAMP:20180420T063735Z
DTSTART:20180624T210000Z
DTEND:20180625T000000Z
SUMMARY:The Bell
END:VEVENT
END:VCALENDAR
