BEGIN:VCALENDAR
VERSION:2.0
PRODID:-//Squarespace Inc/Squarespace 6//v6//EN
BEGIN:VEVENT
UID:5ad988cb70a6adf9d3e79851@squarespace.com
DTSTAMP:20180420T063036Z
DTSTART:20180610T210000Z
DTEND:20180611T000000Z
SUMMARY:Blackwater
END:VEVENT
END:VCALENDAR
