BEGIN:VCALENDAR
VERSION:2.0
PRODID:-//Squarespace Inc/Squarespace 6//v6//EN
BEGIN:VEVENT
UID:5c072238032be4e67116d070@squarespace.com
DTSTAMP:20181205T005825Z
DTSTART:20181209T213000Z
DTEND:20181210T003000Z
SUMMARY:BLACKWATER - 4.30pm
END:VEVENT
END:VCALENDAR
