BEGIN:VCALENDAR
VERSION:2.0
PRODID:-//Squarespace Inc/Squarespace 6//v6//EN
BEGIN:VEVENT
UID:5c0722c140ec9a0e5af00fad@squarespace.com
DTSTAMP:20181205T010418Z
DTSTART:20181209T003000Z
DTEND:20181209T033000Z
SUMMARY:IRISH CONNECTION - 7.30pm
END:VEVENT
END:VCALENDAR
