BEGIN:VCALENDAR
VERSION:2.0
PRODID:-//Squarespace Inc/Squarespace 6//v6//EN
BEGIN:VEVENT
UID:5bed0014352f53b39fff68d0@squarespace.com
DTSTAMP:20181115T051416Z
DTSTART:20190101T023000Z
DTEND:20190101T054500Z
SUMMARY:NEW YEARS EVE PARTY WITH THE FREEEKZ
END:VEVENT
END:VCALENDAR
