BEGIN:VCALENDAR
VERSION:2.0
PRODID:-//Squarespace Inc/Squarespace 6//v6//EN
BEGIN:VEVENT
UID:5becffbd6d2a730d9510815d@squarespace.com
DTSTAMP:20181115T051127Z
DTSTART:20181230T220000Z
DTEND:20181231T010000Z
SUMMARY:THE BELL
END:VEVENT
END:VCALENDAR
