BEGIN:VCALENDAR
VERSION:2.0
PRODID:-//Squarespace Inc/Squarespace 6//v6//EN
BEGIN:VEVENT
UID:5bed2566575d1f1bd37a357f@squarespace.com
DTSTAMP:20181115T075716Z
DTSTART:20181230T003000Z
DTEND:20181230T033000Z
SUMMARY:Continental Blues Trio - 7.30pm
END:VEVENT
END:VCALENDAR
