BEGIN:VCALENDAR
VERSION:2.0
PRODID:-//Squarespace Inc/Squarespace 6//v6//EN
BEGIN:VEVENT
UID:5becff8d575d1f1bd378de91@squarespace.com
DTSTAMP:20181115T070009Z
DTSTART:20181223T213000Z
DTEND:20181224T003000Z
SUMMARY:BLACKWATER - 4.30pm
END:VEVENT
END:VCALENDAR
