BEGIN:VCALENDAR
VERSION:2.0
PRODID:-//Squarespace Inc/Squarespace 6//v6//EN
BEGIN:VEVENT
UID:5becff4321c67c5e47f549ea@squarespace.com
DTSTAMP:20181206T081956Z
DTSTART:20181223T003000Z
DTEND:20181223T033000Z
SUMMARY:MATT MORRISON AND THE TREMOLOMEN - 7.30pm
END:VEVENT
END:VCALENDAR
