BEGIN:VCALENDAR
VERSION:2.0
PRODID:-//Squarespace Inc/Squarespace 6//v6//EN
BEGIN:VEVENT
UID:5becfec1575d1f1bd378d800@squarespace.com
DTSTAMP:20181115T065115Z
DTSTART:20181202T220000Z
DTEND:20181203T010000Z
SUMMARY:IRISH TRAD SESSION - 4.30pm
END:VEVENT
END:VCALENDAR
