BEGIN:VCALENDAR
VERSION:2.0
PRODID:-//Squarespace Inc/Squarespace 6//v6//EN
BEGIN:VEVENT
UID:5becfef870a6adb0fa4098a9@squarespace.com
DTSTAMP:20181115T065816Z
DTSTART:20181216T213000Z
DTEND:20181217T003000Z
SUMMARY:PAT BRADY DUO - 4.30pm
END:VEVENT
END:VCALENDAR
