BEGIN:VCALENDAR
VERSION:2.0
PRODID:-//Squarespace Inc/Squarespace 6//v6//EN
BEGIN:VEVENT
UID:5bed23e9898583b5bbd04a29@squarespace.com
DTSTAMP:20181115T074820Z
DTSTART:20181216T003000Z
DTEND:20181216T033000Z
SUMMARY:The Loungephonics - 7.30pm
END:VEVENT
END:VCALENDAR
