BEGIN:VCALENDAR
VERSION:2.0
PRODID:-//Squarespace Inc/Squarespace 6//v6//EN
BEGIN:VEVENT
UID:5b40904f2b6a284d4ae6619b@squarespace.com
DTSTAMP:20180707T100546Z
DTSTART:20181104T220000Z
DTEND:20181105T010000Z
SUMMARY:Irish Trad Session
END:VEVENT
END:VCALENDAR
