BEGIN:VCALENDAR
VERSION:2.0
PRODID:-//Squarespace Inc/Squarespace 6//v6//EN
BEGIN:VEVENT
UID:5b409010575d1f11415d13ca@squarespace.com
DTSTAMP:20180707T100448Z
DTSTART:20181103T233000Z
DTEND:20181104T023000Z
SUMMARY:The Freeekz
END:VEVENT
END:VCALENDAR
