BEGIN:VCALENDAR
VERSION:2.0
PRODID:-//Squarespace Inc/Squarespace 6//v6//EN
BEGIN:VEVENT
UID:5b4090b61ae6cfc6b0c18d46@squarespace.com
DTSTAMP:20181115T064921Z
DTSTART:20181125T220000Z
DTEND:20181126T010000Z
SUMMARY:The Bell - 5pm
END:VEVENT
END:VCALENDAR
